Package: CytoML Version: 2.18.3 Command: /Library/Frameworks/R.framework/Resources/bin/R CMD INSTALL CytoML StartedAt: 2025-03-31 15:29:53 -0400 (Mon, 31 Mar 2025) EndedAt: 2025-03-31 15:31:55 -0400 (Mon, 31 Mar 2025) EllapsedTime: 122.2 seconds RetCode: 0 Status: OK