Package: CytoML Version: 2.18.3 Command: /Library/Frameworks/R.framework/Resources/bin/R CMD check --install=check:CytoML.install-out.txt --library=/Library/Frameworks/R.framework/Resources/library --no-vignettes --timings CytoML_2.18.3.tar.gz StartedAt: 2025-04-01 01:35:49 -0400 (Tue, 01 Apr 2025) EndedAt: 2025-04-01 01:41:20 -0400 (Tue, 01 Apr 2025) EllapsedTime: 330.8 seconds RetCode: 0 Status: WARNINGS CheckDir: CytoML.Rcheck Warnings: 5