Package: CytoML Version: 2.18.3 Command: /Library/Frameworks/R.framework/Resources/bin/R CMD build --keep-empty-dirs --no-resave-data CytoML StartedAt: 2025-03-31 18:04:28 -0400 (Mon, 31 Mar 2025) EndedAt: 2025-03-31 18:07:42 -0400 (Mon, 31 Mar 2025) EllapsedTime: 194.6 seconds RetCode: 0 Status: OK PackageFile: CytoML_2.18.3.tar.gz PackageFileSize: 8.563 MiB