Package: CytoML Version: 2.18.0 Command: /Library/Frameworks/R.framework/Resources/bin/R CMD INSTALL CytoML StartedAt: 2024-11-19 15:19:02 -0500 (Tue, 19 Nov 2024) EndedAt: 2024-11-19 15:20:22 -0500 (Tue, 19 Nov 2024) EllapsedTime: 80.8 seconds RetCode: 0 Status: OK