Package: CytoML Version: 2.18.0 Command: /home/biocbuild/R/R/bin/R CMD check --install=check:CytoML.install-out.txt --library=/home/biocbuild/R/R/site-library --no-vignettes --timings CytoML_2.18.0.tar.gz StartedAt: 2024-11-20 06:50:46 -0000 (Wed, 20 Nov 2024) EndedAt: 2024-11-20 06:54:02 -0000 (Wed, 20 Nov 2024) EllapsedTime: 195.3 seconds RetCode: 0 Status: WARNINGS CheckDir: CytoML.Rcheck Warnings: 5