Package: CytoML Version: 2.18.1 Command: /Library/Frameworks/R.framework/Resources/bin/R CMD check --install=check:CytoML.install-out.txt --library=/Library/Frameworks/R.framework/Resources/library --no-vignettes --timings CytoML_2.18.1.tar.gz StartedAt: 2025-01-28 16:29:27 -0500 (Tue, 28 Jan 2025) EndedAt: 2025-01-28 16:32:04 -0500 (Tue, 28 Jan 2025) EllapsedTime: 157.6 seconds RetCode: 0 Status: WARNINGS CheckDir: CytoML.Rcheck Warnings: 5