Package: CytoML Version: 2.18.1 Command: /Library/Frameworks/R.framework/Resources/bin/R CMD build --keep-empty-dirs --no-resave-data CytoML StartedAt: 2025-01-27 21:57:53 -0500 (Mon, 27 Jan 2025) EndedAt: 2025-01-27 21:59:28 -0500 (Mon, 27 Jan 2025) EllapsedTime: 94.8 seconds RetCode: 0 Status: OK PackageFile: CytoML_2.18.1.tar.gz PackageFileSize: 8.563 MiB