Package: CytoML Version: 2.18.3 Command: rm -rf CytoML.buildbin-libdir && mkdir CytoML.buildbin-libdir && /Users/biocbuild/BBS/utils/build-universal.sh CytoML_2.18.3.tar.gz /Library/Frameworks/R.framework/Resources/bin/R CytoML.buildbin-libdir StartedAt: 2025-04-02 13:58:45 -0400 (Wed, 02 Apr 2025) EndedAt: 2025-04-02 13:59:59 -0400 (Wed, 02 Apr 2025) EllapsedTime: 74.0 seconds RetCode: 0 Status: OK PackageFile: CytoML_2.18.3.tgz PackageFileSize: 9.179 MiB