Package: CytoMDS Version: 1.2.0 Command: /home/biocbuild/R/R/bin/R CMD INSTALL CytoMDS StartedAt: 2025-01-30 20:51:39 -0000 (Thu, 30 Jan 2025) EndedAt: 2025-01-30 20:51:56 -0000 (Thu, 30 Jan 2025) EllapsedTime: 17.1 seconds RetCode: 0 Status: OK