Package: CytoMDS Version: 1.2.0 Command: chmod a+r CytoMDS -R && F:\biocbuild\bbs-3.20-bioc\R\bin\R.exe CMD build --keep-empty-dirs --no-resave-data CytoMDS StartedAt: 2025-01-27 18:16:56 -0500 (Mon, 27 Jan 2025) EndedAt: 2025-01-27 18:20:35 -0500 (Mon, 27 Jan 2025) EllapsedTime: 219.3 seconds RetCode: 0 Status: OK PackageFile: CytoMDS_1.2.0.tar.gz PackageFileSize: 2.684 MiB