Package: CytoMDS Version: 1.2.0 Command: /home/biocbuild/bbs-3.20-bioc/R/bin/R CMD build --keep-empty-dirs --no-resave-data --md5 CytoMDS StartedAt: 2025-01-30 16:54:56 -0500 (Thu, 30 Jan 2025) EndedAt: 2025-01-30 16:57:35 -0500 (Thu, 30 Jan 2025) EllapsedTime: 159.2 seconds RetCode: 0 Status: OK PackageFile: CytoMDS_1.2.0.tar.gz PackageFileSize: 5.119 MiB