Package: CytoMDS Version: 1.2.0 Command: /Library/Frameworks/R.framework/Resources/bin/R CMD build --keep-empty-dirs --no-resave-data CytoMDS StartedAt: 2025-03-31 18:04:20 -0400 (Mon, 31 Mar 2025) EndedAt: 2025-03-31 18:09:40 -0400 (Mon, 31 Mar 2025) EllapsedTime: 320.2 seconds RetCode: 0 Status: OK PackageFile: CytoMDS_1.2.0.tar.gz PackageFileSize: 4.94 MiB