Package: CytoMDS Version: 1.2.0 Command: rm -rf CytoMDS.buildbin-libdir && mkdir CytoMDS.buildbin-libdir && /Users/biocbuild/BBS/utils/build-universal.sh CytoMDS_1.2.0.tar.gz /Library/Frameworks/R.framework/Resources/bin/R CytoMDS.buildbin-libdir StartedAt: 2025-04-01 11:42:43 -0400 (Tue, 01 Apr 2025) EndedAt: 2025-04-01 11:43:20 -0400 (Tue, 01 Apr 2025) EllapsedTime: 36.8 seconds RetCode: 0 Status: OK PackageFile: CytoMDS_1.2.0.tgz PackageFileSize: 3.625 MiB