Package: CytoGLMM Version: 1.14.0 Command: /home/biocbuild/R/R/bin/R CMD INSTALL CytoGLMM StartedAt: 2025-01-30 21:05:38 -0000 (Thu, 30 Jan 2025) EndedAt: 2025-01-30 21:05:54 -0000 (Thu, 30 Jan 2025) EllapsedTime: 16.4 seconds RetCode: 0 Status: OK