Package: CytoGLMM Version: 1.14.0 Command: /Library/Frameworks/R.framework/Resources/bin/R CMD check --install=check:CytoGLMM.install-out.txt --library=/Library/Frameworks/R.framework/Resources/library --no-vignettes --timings CytoGLMM_1.14.0.tar.gz StartedAt: 2025-01-28 02:20:03 -0500 (Tue, 28 Jan 2025) EndedAt: 2025-01-28 02:25:35 -0500 (Tue, 28 Jan 2025) EllapsedTime: 332.1 seconds RetCode: 0 Status: OK CheckDir: CytoGLMM.Rcheck Warnings: 0