Package: CytoDx Version: 1.26.0 Command: rm -rf CytoDx.buildbin-libdir && mkdir CytoDx.buildbin-libdir && F:\biocbuild\bbs-3.20-bioc\R\bin\R.exe CMD INSTALL --build --library=CytoDx.buildbin-libdir CytoDx_1.26.0.tar.gz StartedAt: 2025-02-04 08:18:41 -0500 (Tue, 04 Feb 2025) EndedAt: 2025-02-04 08:18:57 -0500 (Tue, 04 Feb 2025) EllapsedTime: 16.3 seconds RetCode: 0 Status: OK PackageFile: CytoDx_1.26.0.zip PackageFileSize: 563.7 KiB