Package: CytoDx Version: 1.26.0 Command: /Library/Frameworks/R.framework/Resources/bin/R CMD build --keep-empty-dirs --no-resave-data CytoDx StartedAt: 2024-11-19 16:29:28 -0500 (Tue, 19 Nov 2024) EndedAt: 2024-11-19 16:29:58 -0500 (Tue, 19 Nov 2024) EllapsedTime: 29.8 seconds RetCode: 0 Status: OK PackageFile: CytoDx_1.26.0.tar.gz PackageFileSize: 661.4 KiB