Package: CytoDx Version: 1.26.0 Command: /Library/Frameworks/R.framework/Resources/bin/R CMD INSTALL CytoDx StartedAt: 2025-03-31 17:40:33 -0400 (Mon, 31 Mar 2025) EndedAt: 2025-03-31 17:40:45 -0400 (Mon, 31 Mar 2025) EllapsedTime: 11.9 seconds RetCode: 0 Status: OK