Package: CuratedAtlasQueryR Version: 1.4.0 Command: /Library/Frameworks/R.framework/Resources/bin/R CMD INSTALL CuratedAtlasQueryR StartedAt: 2025-03-31 16:10:35 -0400 (Mon, 31 Mar 2025) EndedAt: 2025-03-31 16:11:56 -0400 (Mon, 31 Mar 2025) EllapsedTime: 81.0 seconds RetCode: 0 Status: OK