Package: CuratedAtlasQueryR Version: 1.4.0 Command: /Library/Frameworks/R.framework/Resources/bin/R CMD INSTALL CuratedAtlasQueryR StartedAt: 2025-03-31 17:17:01 -0400 (Mon, 31 Mar 2025) EndedAt: 2025-03-31 17:17:43 -0400 (Mon, 31 Mar 2025) EllapsedTime: 42.7 seconds RetCode: 0 Status: OK