Package: CrispRVariants Version: 1.34.0 Command: /home/biocbuild/R/R/bin/R CMD INSTALL CrispRVariants StartedAt: 2025-01-30 20:23:16 -0000 (Thu, 30 Jan 2025) EndedAt: 2025-01-30 20:24:08 -0000 (Thu, 30 Jan 2025) EllapsedTime: 52.3 seconds RetCode: 0 Status: OK