Package: CrispRVariants Version: 1.34.0 Command: /home/biocbuild/R/R/bin/R CMD build --keep-empty-dirs --no-resave-data CrispRVariants StartedAt: 2025-03-31 22:48:26 -0000 (Mon, 31 Mar 2025) EndedAt: 2025-03-31 22:51:19 -0000 (Mon, 31 Mar 2025) EllapsedTime: 173.1 seconds RetCode: 0 Status: OK PackageFile: CrispRVariants_1.34.0.tar.gz PackageFileSize: 2.183 MiB