Package: CrispRVariants Version: 1.34.0 Command: /Library/Frameworks/R.framework/Resources/bin/R CMD build --keep-empty-dirs --no-resave-data CrispRVariants StartedAt: 2025-03-31 21:34:21 -0400 (Mon, 31 Mar 2025) EndedAt: 2025-03-31 21:36:37 -0400 (Mon, 31 Mar 2025) EllapsedTime: 136.1 seconds RetCode: 0 Status: OK PackageFile: CrispRVariants_1.34.0.tar.gz PackageFileSize: 3.498 MiB