Package: Cormotif Version: 1.52.0 Command: /home/biocbuild/R/R/bin/R CMD build --keep-empty-dirs --no-resave-data Cormotif StartedAt: 2025-01-27 23:33:37 -0000 (Mon, 27 Jan 2025) EndedAt: 2025-01-27 23:34:23 -0000 (Mon, 27 Jan 2025) EllapsedTime: 46.0 seconds RetCode: 0 Status: OK PackageFile: Cormotif_1.52.0.tar.gz PackageFileSize: 368.1 KiB