Package: Cormotif Version: 1.52.0 Command: /home/biocbuild/bbs-3.20-bioc/R/bin/R CMD build --keep-empty-dirs --no-resave-data --md5 Cormotif StartedAt: 2025-01-27 17:44:08 -0500 (Mon, 27 Jan 2025) EndedAt: 2025-01-27 17:44:35 -0500 (Mon, 27 Jan 2025) EllapsedTime: 27.0 seconds RetCode: 0 Status: OK PackageFile: Cormotif_1.52.0.tar.gz PackageFileSize: 375.8 KiB