Package: Cormotif Version: 1.52.0 Command: /Library/Frameworks/R.framework/Resources/bin/R CMD build --keep-empty-dirs --no-resave-data Cormotif StartedAt: 2025-03-31 21:22:58 -0400 (Mon, 31 Mar 2025) EndedAt: 2025-03-31 21:23:35 -0400 (Mon, 31 Mar 2025) EllapsedTime: 36.1 seconds RetCode: 0 Status: OK PackageFile: Cormotif_1.52.0.tar.gz PackageFileSize: 375.7 KiB