Package: Cormotif Version: 1.52.0 Command: rm -rf Cormotif.buildbin-libdir && mkdir Cormotif.buildbin-libdir && /Users/biocbuild/BBS/utils/build-universal.sh Cormotif_1.52.0.tar.gz /Library/Frameworks/R.framework/Resources/bin/R Cormotif.buildbin-libdir StartedAt: 2025-04-02 13:52:21 -0400 (Wed, 02 Apr 2025) EndedAt: 2025-04-02 13:52:28 -0400 (Wed, 02 Apr 2025) EllapsedTime: 6.7 seconds RetCode: 0 Status: OK PackageFile: Cormotif_1.52.0.tgz PackageFileSize: 430.4 KiB