Package: CoreGx Version: 2.10.0 Command: /home/biocbuild/R/R/bin/R CMD check --install=check:CoreGx.install-out.txt --library=/home/biocbuild/R/R/site-library --no-vignettes --timings CoreGx_2.10.0.tar.gz StartedAt: 2025-01-28 06:03:44 -0000 (Tue, 28 Jan 2025) EndedAt: 2025-01-28 06:12:40 -0000 (Tue, 28 Jan 2025) EllapsedTime: 536.4 seconds RetCode: 1 Status: ERROR CheckDir: CoreGx.Rcheck Warnings: NA