Package: CoreGx Version: 2.10.0 Command: F:\biocbuild\bbs-3.20-bioc\R\bin\R.exe CMD INSTALL CoreGx StartedAt: 2025-03-31 16:38:49 -0400 (Mon, 31 Mar 2025) EndedAt: 2025-03-31 16:41:47 -0400 (Mon, 31 Mar 2025) EllapsedTime: 178.1 seconds RetCode: 0 Status: OK