Package: CoreGx Version: 2.10.0 Command: rm -rf CoreGx.buildbin-libdir && mkdir CoreGx.buildbin-libdir && F:\biocbuild\bbs-3.20-bioc\R\bin\R.exe CMD INSTALL --build --library=CoreGx.buildbin-libdir CoreGx_2.10.0.tar.gz StartedAt: 2025-04-01 07:58:30 -0400 (Tue, 01 Apr 2025) EndedAt: 2025-04-01 08:00:46 -0400 (Tue, 01 Apr 2025) EllapsedTime: 135.6 seconds RetCode: 0 Status: OK PackageFile: CoreGx_2.10.0.zip PackageFileSize: 2.432 MiB