Package: CoreGx Version: 2.10.0 Command: /Library/Frameworks/R.framework/Resources/bin/R CMD INSTALL CoreGx StartedAt: 2025-01-27 16:20:24 -0500 (Mon, 27 Jan 2025) EndedAt: 2025-01-27 16:21:49 -0500 (Mon, 27 Jan 2025) EllapsedTime: 85.3 seconds RetCode: 0 Status: OK