Package: CoreGx Version: 2.10.0 Command: /Library/Frameworks/R.framework/Resources/bin/R CMD check --install=check:CoreGx.install-out.txt --library=/Library/Frameworks/R.framework/Resources/library --no-vignettes --timings CoreGx_2.10.0.tar.gz StartedAt: 2025-01-28 01:55:52 -0500 (Tue, 28 Jan 2025) EndedAt: 2025-01-28 02:07:23 -0500 (Tue, 28 Jan 2025) EllapsedTime: 690.6 seconds RetCode: 0 Status: OK CheckDir: CoreGx.Rcheck Warnings: 0