Package: CoreGx Version: 2.10.0 Command: rm -rf CoreGx.buildbin-libdir && mkdir CoreGx.buildbin-libdir && /Users/biocbuild/BBS/utils/build-universal.sh CoreGx_2.10.0.tar.gz /Library/Frameworks/R.framework/Resources/bin/R CoreGx.buildbin-libdir StartedAt: 2025-01-28 12:53:34 -0500 (Tue, 28 Jan 2025) EndedAt: 2025-01-28 12:55:07 -0500 (Tue, 28 Jan 2025) EllapsedTime: 93.0 seconds RetCode: 0 Status: OK PackageFile: CoreGx_2.10.0.tgz PackageFileSize: 2.428 MiB