Package: CopyNumberPlots Version: 1.22.0 Command: /home/biocbuild/R/R/bin/R CMD INSTALL CopyNumberPlots StartedAt: 2025-01-27 21:38:49 -0000 (Mon, 27 Jan 2025) EndedAt: 2025-01-27 21:39:43 -0000 (Mon, 27 Jan 2025) EllapsedTime: 54.3 seconds RetCode: 0 Status: OK