Package: CopyNumberPlots Version: 1.22.0 Command: /Library/Frameworks/R.framework/Resources/bin/R CMD INSTALL CopyNumberPlots StartedAt: 2025-03-31 15:57:11 -0400 (Mon, 31 Mar 2025) EndedAt: 2025-03-31 15:58:42 -0400 (Mon, 31 Mar 2025) EllapsedTime: 91.1 seconds RetCode: 0 Status: OK