Package: ConsensusClusterPlus Version: 1.70.0 Command: /home/biocbuild/R/R/bin/R CMD check --install=check:ConsensusClusterPlus.install-out.txt --library=/home/biocbuild/R/R/site-library --no-vignettes --timings ConsensusClusterPlus_1.70.0.tar.gz StartedAt: 2025-01-31 05:09:31 -0000 (Fri, 31 Jan 2025) EndedAt: 2025-01-31 05:09:57 -0000 (Fri, 31 Jan 2025) EllapsedTime: 26.0 seconds RetCode: 0 Status: OK CheckDir: ConsensusClusterPlus.Rcheck Warnings: 0