Package: ConsensusClusterPlus Version: 1.70.0 Command: F:\biocbuild\bbs-3.20-bioc\R\bin\R.exe CMD INSTALL ConsensusClusterPlus StartedAt: 2025-01-30 15:24:35 -0500 (Thu, 30 Jan 2025) EndedAt: 2025-01-30 15:25:24 -0500 (Thu, 30 Jan 2025) EllapsedTime: 49.2 seconds RetCode: 0 Status: OK