Package: ConsensusClusterPlus Version: 1.70.0 Command: F:\biocbuild\bbs-3.20-bioc\R\bin\R.exe CMD check --no-multiarch --install=check:ConsensusClusterPlus.install-out.txt --library=F:\biocbuild\bbs-3.20-bioc\R\library --no-vignettes --timings ConsensusClusterPlus_1.70.0.tar.gz StartedAt: 2025-01-31 00:48:05 -0500 (Fri, 31 Jan 2025) EndedAt: 2025-01-31 00:48:41 -0500 (Fri, 31 Jan 2025) EllapsedTime: 36.2 seconds RetCode: 0 Status: OK CheckDir: ConsensusClusterPlus.Rcheck Warnings: 0