Package: ConsensusClusterPlus Version: 1.70.0 Command: chmod a+r ConsensusClusterPlus -R && F:\biocbuild\bbs-3.20-bioc\R\bin\R.exe CMD build --keep-empty-dirs --no-resave-data ConsensusClusterPlus StartedAt: 2025-03-31 18:09:45 -0400 (Mon, 31 Mar 2025) EndedAt: 2025-03-31 18:10:03 -0400 (Mon, 31 Mar 2025) EllapsedTime: 18.3 seconds RetCode: 0 Status: OK PackageFile: ConsensusClusterPlus_1.70.0.tar.gz PackageFileSize: 166.2 KiB