Package: ConsensusClusterPlus Version: 1.70.0 Command: /Library/Frameworks/R.framework/Resources/bin/R CMD build --keep-empty-dirs --no-resave-data ConsensusClusterPlus StartedAt: 2025-01-27 18:04:33 -0500 (Mon, 27 Jan 2025) EndedAt: 2025-01-27 18:05:00 -0500 (Mon, 27 Jan 2025) EllapsedTime: 27.7 seconds RetCode: 0 Status: OK PackageFile: ConsensusClusterPlus_1.70.0.tar.gz PackageFileSize: 382.8 KiB