Package: ComplexHeatmap Version: 2.22.0 Command: /home/biocbuild/R/R/bin/R CMD INSTALL ComplexHeatmap StartedAt: 2025-01-30 20:34:02 -0000 (Thu, 30 Jan 2025) EndedAt: 2025-01-30 20:34:30 -0000 (Thu, 30 Jan 2025) EllapsedTime: 27.5 seconds RetCode: 0 Status: OK