Package: ComplexHeatmap Version: 2.22.0 Command: /home/biocbuild/R/R/bin/R CMD check --install=check:ComplexHeatmap.install-out.txt --library=/home/biocbuild/R/R/site-library --no-vignettes --timings ComplexHeatmap_2.22.0.tar.gz StartedAt: 2025-02-04 05:52:39 -0000 (Tue, 04 Feb 2025) EndedAt: 2025-02-04 05:59:43 -0000 (Tue, 04 Feb 2025) EllapsedTime: 424.4 seconds RetCode: 0 Status: OK CheckDir: ComplexHeatmap.Rcheck Warnings: 0