Package: ComPrAn Version: 1.14.0 Command: /home/biocbuild/R/R/bin/R CMD INSTALL ComPrAn StartedAt: 2025-02-03 20:54:29 -0000 (Mon, 03 Feb 2025) EndedAt: 2025-02-03 20:54:35 -0000 (Mon, 03 Feb 2025) EllapsedTime: 6.7 seconds RetCode: 0 Status: OK