Package: ComPrAn Version: 1.14.0 Command: /Library/Frameworks/R.framework/Resources/bin/R CMD INSTALL ComPrAn StartedAt: 2025-03-31 15:52:11 -0400 (Mon, 31 Mar 2025) EndedAt: 2025-03-31 15:52:24 -0400 (Mon, 31 Mar 2025) EllapsedTime: 13.5 seconds RetCode: 0 Status: OK