Package: ComPrAn Version: 1.14.0 Command: /Library/Frameworks/R.framework/Resources/bin/R CMD INSTALL ComPrAn StartedAt: 2025-01-30 16:39:50 -0500 (Thu, 30 Jan 2025) EndedAt: 2025-01-30 16:39:56 -0500 (Thu, 30 Jan 2025) EllapsedTime: 6.0 seconds RetCode: 0 Status: OK