Package: ComPrAn Version: 1.14.0 Command: /Library/Frameworks/R.framework/Resources/bin/R CMD check --install=check:ComPrAn.install-out.txt --library=/Library/Frameworks/R.framework/Resources/library --no-vignettes --timings ComPrAn_1.14.0.tar.gz StartedAt: 2025-04-01 15:03:08 -0400 (Tue, 01 Apr 2025) EndedAt: 2025-04-01 15:04:17 -0400 (Tue, 01 Apr 2025) EllapsedTime: 68.8 seconds RetCode: 0 Status: OK CheckDir: ComPrAn.Rcheck Warnings: 0