Package: CoSIA Version: 1.6.0 Command: /home/biocbuild/bbs-3.20-bioc/R/bin/R CMD INSTALL CoSIA StartedAt: 2025-03-31 15:36:46 -0400 (Mon, 31 Mar 2025) EndedAt: 2025-03-31 15:37:01 -0400 (Mon, 31 Mar 2025) EllapsedTime: 14.9 seconds RetCode: 0 Status: OK