Package: CoSIA Version: 1.6.0 Command: /home/biocbuild/bbs-3.20-bioc/R/bin/R CMD check --install=check:CoSIA.install-out.txt --library=/home/biocbuild/bbs-3.20-bioc/R/site-library --timings CoSIA_1.6.0.tar.gz StartedAt: 2025-01-27 22:02:17 -0500 (Mon, 27 Jan 2025) EndedAt: 2025-01-27 22:28:50 -0500 (Mon, 27 Jan 2025) EllapsedTime: 1592.5 seconds RetCode: 0 Status: OK CheckDir: CoSIA.Rcheck Warnings: 0