Package: CoSIA Version: 1.6.0 Command: /Library/Frameworks/R.framework/Resources/bin/R CMD INSTALL CoSIA StartedAt: 2025-01-27 16:47:06 -0500 (Mon, 27 Jan 2025) EndedAt: 2025-01-27 16:47:26 -0500 (Mon, 27 Jan 2025) EllapsedTime: 19.5 seconds RetCode: 0 Status: OK