Package: CoSIA Version: 1.6.0 Command: /Library/Frameworks/R.framework/Resources/bin/R CMD build --keep-empty-dirs --no-resave-data CoSIA StartedAt: 2025-03-31 21:23:35 -0400 (Mon, 31 Mar 2025) EndedAt: 2025-03-31 21:26:44 -0400 (Mon, 31 Mar 2025) EllapsedTime: 189.0 seconds RetCode: 0 Status: OK PackageFile: CoSIA_1.6.0.tar.gz PackageFileSize: 1.166 MiB